Workbook
Name data: 'Inventory Sheet'!$B$12:$K$111
Name Price: 'Inventory Sheet'!$F$12:$F$111
Name start: 'Inventory Sheet'!$B$12

Sheet READ_FIRST
C2: WEAVERS' GUILD OF BOSTON
C4: Yarn & Equipment Sale
C6: Waiver and Permissions
B8: By submitting items to the Yarn Sale you automatically agree to the following:
B10: I absolve the Weavers’ Guild of Boston from all responsibility for loss or damage from any cause whatsoever which may occur to the items which I have brought for sale, before, during and after the Yarn Sale dates.
B11: I agree to be fully responsible to buyers of items which I have brought and hereby release the Weavers’ Guild of Boston from any claims made against them with respect to such items.
B12: NOW SAVE THIS FILE WITH YOUR NAME IN THE TITLE, .e.g WGB-YarnSale-InventoryJaneDoe.xls

Sheet Instructions
B1: Yarn & Equipment Sale Inventory Instructions
A3: Here's how to prepare the inventory sheet and the items you are putting into the Weavers' Guild of Boston Yarn Sale:
A5: 1. Click on the Inventory Sheet tab at the bottom of this page. Type your Guild ID number, the date and your contact information in the spaces provided.
A7: 2. Columns B and H will automatically contain your Guild # followed by a dash and the item #. This is the item number you will put on the tags on your sale items.
A9: 3. In columns C-D-E you will enter a description of the item.
A11: 4. After you've entered all the items you are submitting print out a copy of the Inventory Sheet. Print only the page or pages that you have used. (i.e., Specify in the print dialog box: “pages: 1-3” only or whatever you have used, otherwise pages listing 100 items will print out). To determine how many pages you have, use ” Print Preview”. Print a another copy for yourself so you will know what you have delivered to us. Print the inventory landscape on one side of the paper only.
B12: #VALUE!
A13: You can use your own tags, or print some out from the Tags worksheet. Remember to select only the pages you want to print when printing. Print 2 copies of the tags and cut them apart on the dottec lines.
A15: 6. CONTRIBUTION: 20% of the sales will be donated to the Weavers' Guild of Boston: There is no work requirement.
A17: 7. ALL ITEMS MUST BE PICKED UP AFTER THE SALE IS OVER.

Sheet Inventory Sheet
B2: Weavers' Guild Yarn Sale | P2: FIX the flaw
C3: Guild Number | E3: Date: | G3: Return | J3: MUST BE PICKED UP | P3: Yes , but contact me
P4: No, reject the item
C5: Name | G5: Phone
C7: Street Address | G7: Daytime Phone
C9: City, State Zip | G9: Email
B11: Item ID | C11: Item Description (e.g. if yarn, type of yarn and color) | F11: Price | G11: inventory in OK | H11: Item ID | I11: S = item sold | J11: R = returned inventory out | K11: Remarks
B12: =$D$3&"-"&L12 -> -1 | H12: =B12 -> -1 | L12: 1
B13: =$D$3&"-"&L13 -> -2 | H13: =B13 -> -2 | L13: 2
B14: =$D$3&"-"&L14 -> -3 | H14: =B14 -> -3 | L14: 3
B15: =$D$3&"-"&L15 -> -4 | H15: =B15 -> -4 | L15: 4
B16: =$D$3&"-"&L16 -> -5 | H16: =B16 -> -5 | L16: 5
B17: =$D$3&"-"&L17 -> -6 | H17: =B17 -> -6 | L17: 6
B18: =$D$3&"-"&L18 -> -7 | H18: =B18 -> -7 | L18: 7
B19: =$D$3&"-"&L19 -> -8 | H19: =B19 -> -8 | L19: 8
B20: =$D$3&"-"&L20 -> -9 | H20: =B20 -> -9 | L20: 9
B21: =$D$3&"-"&L21 -> -10 | H21: =B21 -> -10 | L21: 10
B22: =$D$3&"-"&L22 -> -11 | H22: =B22 -> -11 | L22: 11
B23: =$D$3&"-"&L23 -> -12 | H23: =B23 -> -12 | L23: 12
... B111: =$D$3&"-"&L111 -> -100 | H111: =B111 -> -100 | L111: 100

Sheet Tags
C3: ='Inventory Sheet'!B12 -> -1 | F3: ='Inventory Sheet'!B13 -> -2 | I3: ='Inventory Sheet'!B14 -> -3
C4: =VLOOKUP(C3,'Inventory Sheet'!B:F,2,FALSE) -> 0 | F4: =VLOOKUP(F3,'Inventory Sheet'!B:F,2,FALSE) -> 0 | I4: =VLOOKUP(I3,'Inventory Sheet'!B:F,2,FALSE) -> 0
C5: =VLOOKUP(C3,'Inventory Sheet'!B:F,5,FALSE) -> 0 | F5: =VLOOKUP(F3,'Inventory Sheet'!B:F,5,FALSE) -> 0 | I5: =VLOOKUP(I3,'Inventory Sheet'!B:F,5,FALSE) -> 0
C8: ='Inventory Sheet'!B15 -> -4 | F8: ='Inventory Sheet'!B16 -> -5 | I8: ='Inventory Sheet'!B17 -> -6
C9: =VLOOKUP(C8,'Inventory Sheet'!B:F,2,FALSE) -> 0 | F9: =VLOOKUP(F8,'Inventory Sheet'!B:F,2,FALSE) -> 0 | I9: =VLOOKUP(I8,'Inventory Sheet'!B:F,2,FALSE) -> 0
C10: =VLOOKUP(C8,'Inventory Sheet'!B:F,5,FALSE) -> 0 | F10: =VLOOKUP(F8,'Inventory Sheet'!B:F,5,FALSE) -> 0 | I10: =VLOOKUP(I8,'Inventory Sheet'!B:F,5,FALSE) -> 0
C13: ='Inventory Sheet'!B18 -> -7 | F13: ='Inventory Sheet'!B19 -> -8 | I13: ='Inventory Sheet'!B20 -> -9
C14: =VLOOKUP(C13,'Inventory Sheet'!B:F,2,FALSE) -> 0 | F14: =VLOOKUP(F13,'Inventory Sheet'!B:F,2,FALSE) -> 0 | I14: =VLOOKUP(I13,'Inventory Sheet'!B:F,2,FALSE) -> 0
C15: =VLOOKUP(C13,'Inventory Sheet'!B:F,5,FALSE) -> 0 | F15: =VLOOKUP(F13,'Inventory Sheet'!B:F,5,FALSE) -> 0 | I15: =VLOOKUP(I13,'Inventory Sheet'!B:F,5,FALSE) -> 0
C18: ='Inventory Sheet'!B21 -> -10 | F18: ='Inventory Sheet'!B22 -> -11 | I18: ='Inventory Sheet'!B23 -> -12
C19: =VLOOKUP(C18,'Inventory Sheet'!B:F,2,FALSE) -> 0 | F19: =VLOOKUP(F18,'Inventory Sheet'!B:F,2,FALSE) -> 0 | I19: =VLOOKUP(I18,'Inventory Sheet'!B:F,2,FALSE) -> 0
C20: =VLOOKUP(C18,'Inventory Sheet'!B:F,5,FALSE) -> 0 | F20: =VLOOKUP(F18,'Inventory Sheet'!B:F,5,FALSE) -> 0 | I20: =VLOOKUP(I18,'Inventory Sheet'!B:F,5,FALSE) -> 0
C23: ='Inventory Sheet'!B24 -> -13 | F23: ='Inventory Sheet'!B25 -> -14 | I23: ='Inventory Sheet'!B26 -> -15
C24: =VLOOKUP(C23,'Inventory Sheet'!B:F,2,FALSE) -> 0 | F24: =VLOOKUP(F23,'Inventory Sheet'!B:F,2,FALSE) -> 0 | I24: =VLOOKUP(I23,'Inventory Sheet'!B:F,2,FALSE) -> 0
C25: =VLOOKUP(C23,'Inventory Sheet'!B:F,5,FALSE) -> 0 | F25: =VLOOKUP(F23,'Inventory Sheet'!B:F,5,FALSE) -> 0 | I25: =VLOOKUP(I23,'Inventory Sheet'!B:F,5,FALSE) -> 0
C28: ='Inventory Sheet'!B27 -> -16 | F28: ='Inventory Sheet'!B28 -> -17 | I28: ='Inventory Sheet'!B29 -> -18
C29: =VLOOKUP(C28,'Inventory Sheet'!B:F,2,FALSE) -> 0 | F29: =VLOOKUP(F28,'Inventory Sheet'!B:F,2,FALSE) -> 0 | I29: =VLOOKUP(I28,'Inventory Sheet'!B:F,2,FALSE) -> 0
C30: =VLOOKUP(C28,'Inventory Sheet'!B:F,5,FALSE) -> 0 | F30: =VLOOKUP(F28,'Inventory Sheet'!B:F,5,FALSE) -> 0 | I30: =VLOOKUP(I28,'Inventory Sheet'!B:F,5,FALSE) -> 0
C33: ='Inventory Sheet'!B30 -> -19 | F33: ='Inventory Sheet'!B31 -> -20 | I33: ='Inventory Sheet'!B32 -> -21
C34: =VLOOKUP(C33,'Inventory Sheet'!B:F,2,FALSE) -> 0 | F34: =VLOOKUP(F33,'Inventory Sheet'!B:F,2,FALSE) -> 0 | I34: =VLOOKUP(I33,'Inventory Sheet'!B:F,2,FALSE) -> 0
C35: =VLOOKUP(C33,'Inventory Sheet'!B:F,5,FALSE) -> 0 | F35: =VLOOKUP(F33,'Inventory Sheet'!B:F,5,FALSE) -> 0 | I35: =VLOOKUP(I33,'Inventory Sheet'!B:F,5,FALSE) -> 0
C38: ='Inventory Sheet'!B33 -> -22 | F38: ='Inventory Sheet'!B34 -> -23 | I38: ='Inventory Sheet'!B35 -> -24
C39: =VLOOKUP(C38,'Inventory Sheet'!B:F,2,FALSE) -> 0 | F39: =VLOOKUP(F38,'Inventory Sheet'!B:F,2,FALSE) -> 0 | I39: =VLOOKUP(I38,'Inventory Sheet'!B:F,2,FALSE) -> 0
C40: =VLOOKUP(C38,'Inventory Sheet'!B:F,5,FALSE) -> 0 | F40: =VLOOKUP(F38,'Inventory Sheet'!B:F,5,FALSE) -> 0 | I40: =VLOOKUP(I38,'Inventory Sheet'!B:F,5,FALSE) -> 0
C43: ='Inventory Sheet'!B36 -> -25 | F43: ='Inventory Sheet'!B37 -> -26 | I43: ='Inventory Sheet'!B38 -> -27
C44: =VLOOKUP(C43,'Inventory Sheet'!B:F,2,FALSE) -> 0 | F44: =VLOOKUP(F43,'Inventory Sheet'!B:F,2,FALSE) -> 0 | I44: =VLOOKUP(I43,'Inventory Sheet'!B:F,2,FALSE) -> 0
C45: =VLOOKUP(C43,'Inventory Sheet'!B:F,5,FALSE) -> 0 | F45: =VLOOKUP(F43,'Inventory Sheet'!B:F,5,FALSE) -> 0 | I45: =VLOOKUP(I43,'Inventory Sheet'!B:F,5,FALSE) -> 0
C48: ='Inventory Sheet'!B39 -> -28 | F48: ='Inventory Sheet'!B40 -> -29 | I48: ='Inventory Sheet'!B41 -> -30
C49: =VLOOKUP(C48,'Inventory Sheet'!B:F,2,FALSE) -> 0 | F49: =VLOOKUP(F48,'Inventory Sheet'!B:F,2,FALSE) -> 0 | I49: =VLOOKUP(I48,'Inventory Sheet'!B:F,2,FALSE) -> 0
C50: =VLOOKUP(C48,'Inventory Sheet'!B:F,5,FALSE) -> 0 | F50: =VLOOKUP(F48,'Inventory Sheet'!B:F,5,FALSE) -> 0 | I50: =VLOOKUP(I48,'Inventory Sheet'!B:F,5,FALSE) -> 0
C53: ='Inventory Sheet'!B42 -> -31 | F53: ='Inventory Sheet'!B43 -> -32 | I53: ='Inventory Sheet'!B44 -> -33
C54: =VLOOKUP(C53,'Inventory Sheet'!B:F,2,FALSE) -> 0 | F54: =VLOOKUP(F53,'Inventory Sheet'!B:F,2,FALSE) -> 0 | I54: =VLOOKUP(I53,'Inventory Sheet'!B:F,2,FALSE) -> 0
C55: =VLOOKUP(C53,'Inventory Sheet'!B:F,5,FALSE) -> 0 | F55: =VLOOKUP(F53,'Inventory Sheet'!B:F,5,FALSE) -> 0 | I55: =VLOOKUP(I53,'Inventory Sheet'!B:F,5,FALSE) -> 0
C58: ='Inventory Sheet'!B45 -> -34 | F58: ='Inventory Sheet'!B46 -> -35 | I58: ='Inventory Sheet'!B47 -> -36
C59: =VLOOKUP(C58,'Inventory Sheet'!B:F,2,FALSE) -> 0 | F59: =VLOOKUP(F58,'Inventory Sheet'!B:F,2,FALSE) -> 0 | I59: =VLOOKUP(I58,'Inventory Sheet'!B:F,2,FALSE) -> 0
C60: =VLOOKUP(C58,'Inventory Sheet'!B:F,5,FALSE) -> 0 | F60: =VLOOKUP(F58,'Inventory Sheet'!B:F,5,FALSE) -> 0 | I60: =VLOOKUP(I58,'Inventory Sheet'!B:F,5,FALSE) -> 0
C63: ='Inventory Sheet'!B48 -> -37 | F63: ='Inventory Sheet'!B49 -> -38 | I63: ='Inventory Sheet'!B50 -> -39
C64: =VLOOKUP(C63,'Inventory Sheet'!B:F,2,FALSE) -> 0 | F64: =VLOOKUP(F63,'Inventory Sheet'!B:F,2,FALSE) -> 0 | I64: =VLOOKUP(I63,'Inventory Sheet'!B:F,2,FALSE) -> 0
C65: =VLOOKUP(C63,'Inventory Sheet'!B:F,5,FALSE) -> 0 | F65: =VLOOKUP(F63,'Inventory Sheet'!B:F,5,FALSE) -> 0 | I65: =VLOOKUP(I63,'Inventory Sheet'!B:F,5,FALSE) -> 0
C68: ='Inventory Sheet'!B51 -> -40 | F68: ='Inventory Sheet'!B52 -> -41 | I68: ='Inventory Sheet'!B53 -> -42
...
